BEGIN:VCALENDAR
VERSION:2.0
PRODID:spatie/icalendar-generator
DESCRIPTION:Evenementen van 
X-WR-CALDESC:Evenementen van 
REFRESH-INTERVAL;VALUE=DURATION:PT1440M
X-PUBLISHED-TTL:PT1440M
BEGIN:VTIMEZONE
TZID:Etc/GMT+0
BEGIN:STANDARD
DTSTART:20240128T133000Z
TZOFFSETFROM:+0000
TZOFFSETTO:+0000
END:STANDARD
END:VTIMEZONE
BEGIN:VTIMEZONE
TZID:UTC
BEGIN:STANDARD
DTSTART:20250723T192142Z
TZOFFSETFROM:+0000
TZOFFSETTO:+0000
END:STANDARD
END:VTIMEZONE
BEGIN:VEVENT
UID:174-41
DTSTAMP:20260419T192142Z
SUMMARY:Computer-/internetcafé
LOCATION:De Zilverberk Schoolstraat 9  Prinsenbeek Noord Brabant 4841 XC
ORGANIZER;CN=Mark Baars:MAILTO:m.baars@gmx.com
RRULE:FREQ=WEEKLY;UNTIL=20241219T000000Z
DTSTART;TZID=Etc/GMT+0:20241024T133000
DTEND;TZID=Etc/GMT+0:20241024T153000
X-ALT-DESC;FMTTYPE=TEXT/HTML:<p>Hulp voor al uw vragen over pc\, laptop\, t
 elefoon of tablet.</p>\n
CATEGORIES:General
URL;VALUE=URI:https://kboprinsenbeek.nl/mc-events/computer-internetcafe?mc_
 id=174
METHOD:PUBLISH
END:VEVENT
END:VCALENDAR