BEGIN:VCALENDAR
VERSION:2.0
PRODID:spatie/icalendar-generator
DESCRIPTION:Evenementen van 
X-WR-CALDESC:Evenementen van 
REFRESH-INTERVAL;VALUE=DURATION:PT1440M
X-PUBLISHED-TTL:PT1440M
BEGIN:VTIMEZONE
TZID:Etc/GMT+0
BEGIN:STANDARD
DTSTART:20240202T123000Z
TZOFFSETFROM:+0000
TZOFFSETTO:+0000
END:STANDARD
END:VTIMEZONE
BEGIN:VTIMEZONE
TZID:UTC
BEGIN:STANDARD
DTSTART:20250723T160938Z
TZOFFSETFROM:+0000
TZOFFSETTO:+0000
END:STANDARD
END:VTIMEZONE
BEGIN:VEVENT
UID:193-68
DTSTAMP:20260419T160938Z
SUMMARY:Viering 75 jaar Kring Breda
LOCATION:De Drie Linden Prinsenbeek Heisprong 15  Prinsenbeek  4841 NA
ORGANIZER;CN=Mark Baars:MAILTO:m.baars@gmx.com
DTSTART;TZID=Etc/GMT+0:20241029T123000
DTEND;TZID=Etc/GMT+0:20241029T133000
X-ALT-DESC;FMTTYPE=TEXT/HTML:VIERING 75 JAAR “KRING BREDA” DINSDAG 29 O
 KTOBER 2024 Beste leden van KBO Prinsenbeek\, Dit jaar bestaat de Kring KB
 O Breda (bestaande uit de samenwerkende afdelingen) 75 jaar. Dit heuglijke
  feit willen we samen met zo veel mogelijk leden vieren en dat gaan we doe
 n op dinsdag 29 oktober 2024. De locatie is De Drie&amp;hellip\;
CATEGORIES:General
URL;VALUE=URI:https://kboprinsenbeek.nl/mc-events/viering-75-jaar-kring-bre
 da
METHOD:PUBLISH
END:VEVENT
END:VCALENDAR