BEGIN:VCALENDAR
VERSION:2.0
PRODID:spatie/icalendar-generator
DESCRIPTION:Evenementen van 
X-WR-CALDESC:Evenementen van 
REFRESH-INTERVAL;VALUE=DURATION:PT1440M
X-PUBLISHED-TTL:PT1440M
BEGIN:VTIMEZONE
TZID:Etc/GMT+0
BEGIN:STANDARD
DTSTART:20231228T000000Z
TZOFFSETFROM:+0000
TZOFFSETTO:+0000
END:STANDARD
END:VTIMEZONE
BEGIN:VTIMEZONE
TZID:UTC
BEGIN:STANDARD
DTSTART:20250726T002358Z
TZOFFSETFROM:+0000
TZOFFSETTO:+0000
END:STANDARD
END:VTIMEZONE
BEGIN:VEVENT
UID:201-69
DTSTAMP:20260422T002358Z
SUMMARY:Stemmen Rabo Clubsupport
LOCATION:
ORGANIZER;CN=Mark Baars:MAILTO:m.baars@gmx.com
DTSTART;TZID=Etc/GMT+0;VALUE=DATE:20240923
DTEND;TZID=Etc/GMT+0;VALUE=DATE:20240924
X-ALT-DESC;FMTTYPE=TEXT/HTML:stemmen kan van 2 september tot en met 24 sept
 ember
CATEGORIES:General
URL;VALUE=URI:https://kboprinsenbeek.nl/mc-events/stemmen-rabo-clubsupport
METHOD:PUBLISH
END:VEVENT
END:VCALENDAR