BEGIN:VCALENDAR
VERSION:2.0
PRODID:spatie/icalendar-generator
DESCRIPTION:Evenementen van 
X-WR-CALDESC:Evenementen van 
REFRESH-INTERVAL;VALUE=DURATION:PT1440M
X-PUBLISHED-TTL:PT1440M
BEGIN:VTIMEZONE
TZID:Etc/GMT+0
BEGIN:STANDARD
DTSTART:20231208T000000Z
TZOFFSETFROM:+0000
TZOFFSETTO:+0000
END:STANDARD
END:VTIMEZONE
BEGIN:VTIMEZONE
TZID:UTC
BEGIN:STANDARD
DTSTART:20250725T110930Z
TZOFFSETFROM:+0000
TZOFFSETTO:+0000
END:STANDARD
END:VTIMEZONE
BEGIN:VEVENT
UID:203-72
DTSTAMP:20260421T110930Z
SUMMARY:DAGTOCHT FIETSCLUB
LOCATION:De Zilverberk Schoolstraat 9  Prinsenbeek Noord Brabant 4841 XC
ORGANIZER;CN=Josien van Melis:MAILTO:secretaris@kboprinsenbeek.nl
DTSTART;TZID=Etc/GMT+0;VALUE=DATE:20240903
DTEND;TZID=Etc/GMT+0;VALUE=DATE:20240904
X-ALT-DESC;FMTTYPE=TEXT/HTML:
CATEGORIES:General
URL;VALUE=URI:https://kboprinsenbeek.nl/mc-events/dagtocht-fietsclub
METHOD:PUBLISH
END:VEVENT
END:VCALENDAR