BEGIN:VCALENDAR
VERSION:2.0
PRODID:spatie/icalendar-generator
DESCRIPTION:Evenementen van 
X-WR-CALDESC:Evenementen van 
REFRESH-INTERVAL;VALUE=DURATION:PT1440M
X-PUBLISHED-TTL:PT1440M
BEGIN:VTIMEZONE
TZID:Etc/GMT+0
BEGIN:STANDARD
DTSTART:20231223T000000Z
TZOFFSETFROM:+0000
TZOFFSETTO:+0000
END:STANDARD
END:VTIMEZONE
BEGIN:VTIMEZONE
TZID:UTC
BEGIN:STANDARD
DTSTART:20250725T192805Z
TZOFFSETFROM:+0000
TZOFFSETTO:+0000
END:STANDARD
END:VTIMEZONE
BEGIN:VEVENT
UID:205-74
DTSTAMP:20260421T192805Z
SUMMARY:Afsluiting fietsseizoen
LOCATION:
ORGANIZER;CN=Josien van Melis:MAILTO:secretaris@kboprinsenbeek.nl
DTSTART;TZID=Etc/GMT+0;VALUE=DATE:20240918
DTEND;TZID=Etc/GMT+0;VALUE=DATE:20240919
X-ALT-DESC;FMTTYPE=TEXT/HTML:Afsluiting fietsseizoen met etentje in Veehand
 elshuis.
CATEGORIES:General
URL;VALUE=URI:https://kboprinsenbeek.nl/mc-events/afsluiting-fietsseizoen
METHOD:PUBLISH
END:VEVENT
END:VCALENDAR