BEGIN:VCALENDAR
VERSION:2.0
PRODID:spatie/icalendar-generator
DESCRIPTION:Evenementen van 
X-WR-CALDESC:Evenementen van 
REFRESH-INTERVAL;VALUE=DURATION:PT1440M
X-PUBLISHED-TTL:PT1440M
BEGIN:VTIMEZONE
TZID:Etc/GMT+0
BEGIN:STANDARD
DTSTART:20240122T100000Z
TZOFFSETFROM:+0000
TZOFFSETTO:+0000
END:STANDARD
END:VTIMEZONE
BEGIN:VTIMEZONE
TZID:UTC
BEGIN:STANDARD
DTSTART:20250723T223513Z
TZOFFSETFROM:+0000
TZOFFSETTO:+0000
END:STANDARD
END:VTIMEZONE
BEGIN:VEVENT
UID:209-77
DTSTAMP:20260419T223513Z
SUMMARY:Info Openbaar Vervoer
LOCATION:
ORGANIZER;CN=Mark Baars:MAILTO:m.baars@gmx.com
DTSTART;TZID=Etc/GMT+0:20241018T100000
DTEND;TZID=Etc/GMT+0:20241018T110000
X-ALT-DESC;FMTTYPE=TEXT/HTML:MET DE BUS OF MET DE TREIN? OV-gidsen wijzen u
  de weg in het OPENBAAR VERVOER. Reizigersoverleg Brabant helpt mensen met
  een afstand tot openbaar vervoer door informatie te geven en daadwerkelij
 k met mensen in de bus te stappen. Daarvoor zijn OV-gidsen opgeleid die th
 eorie-informatie én praktijklessen geven over reizen met het OV in Braban
 t.&amp;hellip\;
CATEGORIES:General
URL;VALUE=URI:https://kboprinsenbeek.nl/mc-events/info-openbaar-vervoer
METHOD:PUBLISH
END:VEVENT
END:VCALENDAR