BEGIN:VCALENDAR
VERSION:2.0
PRODID:spatie/icalendar-generator
DESCRIPTION:Evenementen van 
X-WR-CALDESC:Evenementen van 
REFRESH-INTERVAL;VALUE=DURATION:PT1440M
X-PUBLISHED-TTL:PT1440M
BEGIN:VTIMEZONE
TZID:Etc/GMT+0
BEGIN:STANDARD
DTSTART:20240219T100000Z
TZOFFSETFROM:+0000
TZOFFSETTO:+0000
END:STANDARD
END:VTIMEZONE
BEGIN:VTIMEZONE
TZID:UTC
BEGIN:STANDARD
DTSTART:20250724T015821Z
TZOFFSETFROM:+0000
TZOFFSETTO:+0000
END:STANDARD
END:VTIMEZONE
BEGIN:VEVENT
UID:210-78
DTSTAMP:20260420T015821Z
SUMMARY:Bijeenkomst palliative zorg
LOCATION:De Zilverberk Schoolstraat 9  Prinsenbeek Noord Brabant 4841 XC
ORGANIZER;CN=Mark Baars:MAILTO:m.baars@gmx.com
DTSTART;TZID=Etc/GMT+0:20241115T100000
DTEND;TZID=Etc/GMT+0:20241115T110000
X-ALT-DESC;FMTTYPE=TEXT/HTML:BIJEENKOMST over PALLIATIEVE ZORG op vrijdag 1
 5 november om 10.00 uur Wat is palliatieve zorg? Palliatief betekent: verz
 achtend. Palliatieve zorg is niet gericht op genezing\, maar op welzijn. D
 at het leven zo fijn en goed mogelijk is\, ondanks dat je ziek bent. Dit d
 oor het voorkómen en/of verminderen van klachten. Omdat de mensen om je&amp;h
 ellip\;
CATEGORIES:General
URL;VALUE=URI:https://kboprinsenbeek.nl/mc-events/bijeenkomst-palliative-zo
 rg
METHOD:PUBLISH
END:VEVENT
END:VCALENDAR