BEGIN:VCALENDAR
VERSION:2.0
PRODID:spatie/icalendar-generator
DESCRIPTION:Evenementen van 
X-WR-CALDESC:Evenementen van 
REFRESH-INTERVAL;VALUE=DURATION:PT1440M
X-PUBLISHED-TTL:PT1440M
BEGIN:VTIMEZONE
TZID:Etc/GMT+0
BEGIN:STANDARD
DTSTART:20250620T093000Z
TZOFFSETFROM:+0000
TZOFFSETTO:+0000
END:STANDARD
END:VTIMEZONE
BEGIN:VTIMEZONE
TZID:UTC
BEGIN:STANDARD
DTSTART:20250725T052101Z
TZOFFSETFROM:+0000
TZOFFSETTO:+0000
END:STANDARD
END:VTIMEZONE
BEGIN:VEVENT
UID:427-124
DTSTAMP:20260421T052101Z
SUMMARY:Algemene Ledenvergadering (ALV)
LOCATION:De Zilverberk Schoolstraat 9  Prinsenbeek Noord Brabant 4841 XC
ORGANIZER;CN=Mark Baars:MAILTO:m.baars@gmx.com
DTSTART;TZID=Etc/GMT+0:20260317T093000
DTEND;TZID=Etc/GMT+0:20260317T120000
X-ALT-DESC;FMTTYPE=TEXT/HTML:Algemene Ledenvergadering (ALV)
CATEGORIES:General
URL;VALUE=URI:https://kboprinsenbeek.nl/mc-events/algemene-ledenvergadering
 -alv-2
METHOD:PUBLISH
END:VEVENT
END:VCALENDAR