BEGIN:VCALENDAR
VERSION:2.0
PRODID:spatie/icalendar-generator
DESCRIPTION:Evenementen van 
X-WR-CALDESC:Evenementen van 
REFRESH-INTERVAL;VALUE=DURATION:PT1440M
X-PUBLISHED-TTL:PT1440M
BEGIN:VTIMEZONE
TZID:Etc/GMT+0
BEGIN:STANDARD
DTSTART:20250630T083000Z
TZOFFSETFROM:+0000
TZOFFSETTO:+0000
END:STANDARD
END:VTIMEZONE
BEGIN:VTIMEZONE
TZID:UTC
BEGIN:STANDARD
DTSTART:20250724T191242Z
TZOFFSETFROM:+0000
TZOFFSETTO:+0000
END:STANDARD
END:VTIMEZONE
BEGIN:VEVENT
UID:430-126
DTSTAMP:20260420T191242Z
SUMMARY:bezoek aan Europees Parlement in Brussel
LOCATION:
ORGANIZER;CN=Mark Baars:MAILTO:m.baars@gmx.com
DTSTART;TZID=Etc/GMT+0:20260327T083000
DTEND;TZID=Etc/GMT+0:20260327T180000
X-ALT-DESC;FMTTYPE=TEXT/HTML:bezoek aan Europees Parlement in Brussel (tijd
  volgt nog)
CATEGORIES:General
URL;VALUE=URI:https://kboprinsenbeek.nl/mc-events/bezoek-aan-europees-parle
 ment-in-brussel
METHOD:PUBLISH
END:VEVENT
END:VCALENDAR