BEGIN:VCALENDAR
VERSION:2.0
PRODID:spatie/icalendar-generator
DESCRIPTION:Evenementen van 
X-WR-CALDESC:Evenementen van 
REFRESH-INTERVAL;VALUE=DURATION:PT1440M
X-PUBLISHED-TTL:PT1440M
BEGIN:VTIMEZONE
TZID:Etc/GMT+0
BEGIN:STANDARD
DTSTART:20250522T123000Z
TZOFFSETFROM:+0000
TZOFFSETTO:+0000
END:STANDARD
END:VTIMEZONE
BEGIN:VTIMEZONE
TZID:UTC
BEGIN:STANDARD
DTSTART:20250725T000820Z
TZOFFSETFROM:+0000
TZOFFSETTO:+0000
END:STANDARD
END:VTIMEZONE
BEGIN:VEVENT
UID:482-122
DTSTAMP:20260421T000820Z
SUMMARY:Carnavalsmiddag BAK Senioren
LOCATION:De Zilverberk Schoolstraat 9  Prinsenbeek Noord Brabant 4841 XC
ORGANIZER;CN=Mark Baars:MAILTO:m.baars@gmx.com
DTSTART;TZID=Etc/GMT+0:20260216T123000
DTEND;TZID=Etc/GMT+0:20260216T133000
X-ALT-DESC;FMTTYPE=TEXT/HTML:Carnavalsmiddag BAK Senioren - Zaal open om 12
 .30 uur. Aanvang programma om 13.00 uur
CATEGORIES:General
URL;VALUE=URI:https://kboprinsenbeek.nl/mc-events/carnavalsmiddag-bak-senio
 ren
METHOD:PUBLISH
END:VEVENT
END:VCALENDAR