BEGIN:VCALENDAR
VERSION:2.0
PRODID:spatie/icalendar-generator
DESCRIPTION:Evenementen van 
X-WR-CALDESC:Evenementen van 
REFRESH-INTERVAL;VALUE=DURATION:PT1440M
X-PUBLISHED-TTL:PT1440M
BEGIN:VTIMEZONE
TZID:Etc/GMT+0
BEGIN:STANDARD
DTSTART:20250812T120000Z
TZOFFSETFROM:+0000
TZOFFSETTO:+0000
END:STANDARD
END:VTIMEZONE
BEGIN:VTIMEZONE
TZID:UTC
BEGIN:STANDARD
DTSTART:20250724T205404Z
TZOFFSETFROM:+0000
TZOFFSETTO:+0000
END:STANDARD
END:VTIMEZONE
BEGIN:VEVENT
UID:633-134
DTSTAMP:20260420T205404Z
SUMMARY:Bingo Zilverberk - Zaal open 12.00 uur - Aanvang 13.00 uur
LOCATION:De Zilverberk Schoolstraat 9  Prinsenbeek Noord Brabant 4841 XC
ORGANIZER;CN=Mark Baars:MAILTO:m.baars@gmx.com
DTSTART;TZID=Etc/GMT+0:20260509T120000
DTEND;TZID=Etc/GMT+0:20260509T130000
X-ALT-DESC;FMTTYPE=TEXT/HTML:
CATEGORIES:General
URL;VALUE=URI:https://kboprinsenbeek.nl/mc-events/bingo-zilverberk-zaal-ope
 n-12-00-uur-aanvang-13-00-uur
METHOD:PUBLISH
END:VEVENT
END:VCALENDAR