BEGIN:VCALENDAR
VERSION:2.0
PRODID:spatie/icalendar-generator
DESCRIPTION:Evenementen van 
X-WR-CALDESC:Evenementen van 
REFRESH-INTERVAL;VALUE=DURATION:PT1440M
X-PUBLISHED-TTL:PT1440M
BEGIN:VTIMEZONE
TZID:Etc/GMT+0
BEGIN:STANDARD
DTSTART:20240101T140000Z
TZOFFSETFROM:+0000
TZOFFSETTO:+0000
END:STANDARD
END:VTIMEZONE
BEGIN:VTIMEZONE
TZID:UTC
BEGIN:STANDARD
DTSTART:20250728T095813Z
TZOFFSETFROM:+0000
TZOFFSETTO:+0000
END:STANDARD
END:VTIMEZONE
BEGIN:VEVENT
UID:206-75
DTSTAMP:20260424T095813Z
SUMMARY:Kunst kijken in de Nispenhoeve
LOCATION:
ORGANIZER;CN=Mark Baars:MAILTO:m.baars@gmx.com
DTSTART;TZID=Etc/GMT+0:20240927T140000
DTEND;TZID=Etc/GMT+0:20240927T170000
X-ALT-DESC;FMTTYPE=TEXT/HTML:Van 14 tot en met 29 september organiseren Joh
 n en Wilma Heller in hun Galerie en Beeldentuin de Nispenhoeve wederom een
  expositie. Werken van 19 verschillende kunstenaars en kunstvormen zijn da
 n te bewonderen. Exclusief voor leden van KBO Prinsenbeek is de expositie 
 geopend op vrijdagmiddag 27 september vanaf 14.00 uur. Een of meerdere van
  de&amp;hellip\;
CATEGORIES:General
URL;VALUE=URI:https://kboprinsenbeek.nl/mc-events/kunst-kijken-in-de-nispen
 hoeve
METHOD:PUBLISH
END:VEVENT
END:VCALENDAR