BEGIN:VCALENDAR
VERSION:2.0
PRODID:spatie/icalendar-generator
DESCRIPTION:Evenementen van 
X-WR-CALDESC:Evenementen van 
REFRESH-INTERVAL;VALUE=DURATION:PT1440M
X-PUBLISHED-TTL:PT1440M
BEGIN:VTIMEZONE
TZID:Etc/GMT+0
BEGIN:STANDARD
DTSTART:20240220T090000Z
TZOFFSETFROM:+0000
TZOFFSETTO:+0000
END:STANDARD
END:VTIMEZONE
BEGIN:VTIMEZONE
TZID:UTC
BEGIN:STANDARD
DTSTART:20250724T050800Z
TZOFFSETFROM:+0000
TZOFFSETTO:+0000
END:STANDARD
END:VTIMEZONE
BEGIN:VEVENT
UID:211-79
DTSTAMP:20260420T050800Z
SUMMARY:Biljarten Jo Nelemans Afvaltoernooi
LOCATION:De Zilverberk Schoolstraat 9  Prinsenbeek Noord Brabant 4841 XC
ORGANIZER;CN=Mark Baars:MAILTO:m.baars@gmx.com
DTSTART;TZID=Etc/GMT+0:20241116T090000
DTEND;TZID=Etc/GMT+0:20241116T100000
X-ALT-DESC;FMTTYPE=TEXT/HTML:BILJARTVERENIGING “ONS HUIS” - JO NELEMANS
  AFVALTOERNOOI zaterdag 16 november\, aanvang 9.00 uur Voor leden bedragen
  de kosten voor deelname € 7\,50\; niet-leden betalen € 10\,00. Hiervo
 or ontvangt u 2 keer koffie of thee\, lunch en 1 consumptie Deelnemers kun
 nen zich\, onder vermelding van naam en moyenne\, aanmelden bij Rien Santb
 ergen\, email: riens@ziggo.nl of op&amp;hellip\;
CATEGORIES:General
URL;VALUE=URI:https://kboprinsenbeek.nl/mc-events/biljarten-jo-nelemans-afv
 altoernooi
METHOD:PUBLISH
END:VEVENT
END:VCALENDAR