BEGIN:VCALENDAR
VERSION:2.0
PRODID:spatie/icalendar-generator
DESCRIPTION:Evenementen van 
X-WR-CALDESC:Evenementen van 
REFRESH-INTERVAL;VALUE=DURATION:PT1440M
X-PUBLISHED-TTL:PT1440M
BEGIN:VTIMEZONE
TZID:Etc/GMT+0
BEGIN:STANDARD
DTSTART:20250523T123000Z
TZOFFSETFROM:+0000
TZOFFSETTO:+0000
END:STANDARD
END:VTIMEZONE
BEGIN:VTIMEZONE
TZID:UTC
BEGIN:STANDARD
DTSTART:20250725T032338Z
TZOFFSETFROM:+0000
TZOFFSETTO:+0000
END:STANDARD
END:VTIMEZONE
BEGIN:VEVENT
UID:483-123
DTSTAMP:20260421T032338Z
SUMMARY:Carnavalsmiddag – KBO senioren
LOCATION:De Zilverberk Schoolstraat 9  Prinsenbeek Noord Brabant 4841 XC
ORGANIZER;CN=Mark Baars:MAILTO:m.baars@gmx.com
DTSTART;TZID=Etc/GMT+0:20260217T123000
DTEND;TZID=Etc/GMT+0:20260217T133000
X-ALT-DESC;FMTTYPE=TEXT/HTML:Carnavalsmiddag – KBO senioren - zaal open o
 m 12:30 uur. Programma begint om 13:00 uur.
CATEGORIES:General
URL;VALUE=URI:https://kboprinsenbeek.nl/mc-events/carnavalsmiddag-kbo-senio
 ren
METHOD:PUBLISH
END:VEVENT
END:VCALENDAR