BEGIN:VCALENDAR
VERSION:2.0
PRODID:spatie/icalendar-generator
DESCRIPTION:Evenementen van 
X-WR-CALDESC:Evenementen van 
REFRESH-INTERVAL;VALUE=DURATION:PT1440M
X-PUBLISHED-TTL:PT1440M
BEGIN:VTIMEZONE
TZID:Etc/GMT+0
BEGIN:STANDARD
DTSTART:20230602T133000Z
TZOFFSETFROM:+0000
TZOFFSETTO:+0000
END:STANDARD
END:VTIMEZONE
BEGIN:VTIMEZONE
TZID:UTC
BEGIN:STANDARD
DTSTART:20250728T083411Z
TZOFFSETFROM:+0000
TZOFFSETTO:+0000
END:STANDARD
END:VTIMEZONE
BEGIN:VEVENT
UID:99-44
DTSTAMP:20260424T083411Z
SUMMARY:Bingo
LOCATION:De Zilverberk Schoolstraat 9  Prinsenbeek Noord Brabant 4841 XC
ORGANIZER;CN=Mark Baars:MAILTO:m.baars@gmx.com
DTSTART;TZID=Etc/GMT+0:20240227T133000
DTEND;TZID=Etc/GMT+0:20240227T163000
X-ALT-DESC;FMTTYPE=TEXT/HTML:<p>Bingomiddag</p>\n
CATEGORIES:General
URL;VALUE=URI:https://kboprinsenbeek.nl/mc-events/bingo-3
METHOD:PUBLISH
END:VEVENT
END:VCALENDAR